BEGIN:VCALENDAR
VERSION:2.0
PRODID:-//Vintage Kart Club of America - ECPv6.15.19//NONSGML v1.0//EN
CALSCALE:GREGORIAN
METHOD:PUBLISH
X-WR-CALNAME:Vintage Kart Club of America
X-ORIGINAL-URL:https://www.vkcoa.com
X-WR-CALDESC:Events for Vintage Kart Club of America
REFRESH-INTERVAL;VALUE=DURATION:PT1H
X-Robots-Tag:noindex
X-PUBLISHED-TTL:PT1H
BEGIN:VTIMEZONE
TZID:America/Los_Angeles
BEGIN:DAYLIGHT
TZOFFSETFROM:-0800
TZOFFSETTO:-0700
TZNAME:PDT
DTSTART:20250309T100000
END:DAYLIGHT
BEGIN:STANDARD
TZOFFSETFROM:-0700
TZOFFSETTO:-0800
TZNAME:PST
DTSTART:20251102T090000
END:STANDARD
BEGIN:DAYLIGHT
TZOFFSETFROM:-0800
TZOFFSETTO:-0700
TZNAME:PDT
DTSTART:20260308T100000
END:DAYLIGHT
BEGIN:STANDARD
TZOFFSETFROM:-0700
TZOFFSETTO:-0800
TZNAME:PST
DTSTART:20261101T090000
END:STANDARD
BEGIN:DAYLIGHT
TZOFFSETFROM:-0800
TZOFFSETTO:-0700
TZNAME:PDT
DTSTART:20270314T100000
END:DAYLIGHT
BEGIN:STANDARD
TZOFFSETFROM:-0700
TZOFFSETTO:-0800
TZNAME:PST
DTSTART:20271107T090000
END:STANDARD
END:VTIMEZONE
BEGIN:VEVENT
DTSTART;VALUE=DATE:20260501
DTEND;VALUE=DATE:20260503
DTSTAMP:20260422T015012
CREATED:20251029T223729Z
LAST-MODIFIED:20260214T153143Z
UID:714-1777593600-1777766399@www.vkcoa.com
SUMMARY:Ron Emmick Vintage Play Days
DESCRIPTION:*Promoter Option – Driver Passes $50 per day \nNon Driver Pit Passes $10 per day
URL:https://www.vkcoa.com/?tribe_events=ron-emmick-vintage-play-days-2
LOCATION:Prairies City Kart Track\, 13300 White Rock Road\, Rancho Cordova\, CA\, 95742
CATEGORIES:Promoter Option
ATTACH;FMTTYPE=image/png:https://www.vkcoa.com/wp-content/uploads/2025/01/prairie_city_kart_track.png
END:VEVENT
BEGIN:VEVENT
DTSTART;TZID=America/Los_Angeles:20260501T170000
DTEND;TZID=America/Los_Angeles:20260501T220000
DTSTAMP:20260422T015012
CREATED:20251029T224508Z
LAST-MODIFIED:20260214T001135Z
UID:719-1777654800-1777672800@www.vkcoa.com
SUMMARY:3rd Annual Go Kart Hall of Fame
DESCRIPTION:Price is for the Banquet ONLY and does not include Lodging
URL:https://www.vkcoa.com/?tribe_events=3rd-annual-go-kart-hall-of-fame
LOCATION:Lake Natoma Inn\, 702 Gold Lake Drive\, Folsom\, CA\, 95630
CATEGORIES:Hall of Fame
ATTACH;FMTTYPE=image/png:https://www.vkcoa.com/wp-content/uploads/2025/01/gkhof_logo.png
ORGANIZER;CN="Tim Meyer":MAILTO:tim@atomickarting.com
END:VEVENT
BEGIN:VEVENT
DTSTART;VALUE=DATE:20260610
DTEND;VALUE=DATE:20260611
DTSTAMP:20260422T015012
CREATED:20251205T185647Z
LAST-MODIFIED:20260214T004142Z
UID:728-1781049600-1781135999@www.vkcoa.com
SUMMARY:3rd Annual Paul Bennett Memorial
DESCRIPTION:*Promoter Option – $60 is for Drivers Pass \nSpectator Pit Passes are $20 – Lunch Provided
URL:https://www.vkcoa.com/?tribe_events=3rd-annual-paul-bennett-memorial
LOCATION:Adam’s Motorsports Park\, 5292 24th Street\, Riverside\, CA\, 92509
CATEGORIES:Old Farts in Rear Karts,Promoter Option
ATTACH;FMTTYPE=image/png:https://www.vkcoa.com/wp-content/uploads/2025/01/adams_motorsports_park.png
ORGANIZER;CN="Jay Mendoza":MAILTO:jaymen@pacbell.net
END:VEVENT
BEGIN:VEVENT
DTSTART;VALUE=DATE:20260724
DTEND;VALUE=DATE:20260726
DTSTAMP:20260422T015012
CREATED:20260123T163258Z
LAST-MODIFIED:20260214T185808Z
UID:759-1784851200-1785023999@www.vkcoa.com
SUMMARY:Santa Maria Major Event
DESCRIPTION:**Major Event – VKCA Members pay $80 for weekend Driver Pass \nNon Driver Pit Passes are $15 for the weekend
URL:https://www.vkcoa.com/?tribe_events=santa-maria-major-event
LOCATION:Santa Maria Raceway\, 3951 S Blosser Rd\, Santa Maria\, CA\, 93455
CATEGORIES:Major Event
ATTACH;FMTTYPE=image/jpeg:https://www.vkcoa.com/wp-content/uploads/2025/01/smka.jpg
ORGANIZER;CN="Steve Shaw":MAILTO:shaw7d@gmail.com
END:VEVENT
BEGIN:VEVENT
DTSTART;VALUE=DATE:20260814
DTEND;VALUE=DATE:20260817
DTSTAMP:20260422T015012
CREATED:20260123T162408Z
LAST-MODIFIED:20260220T055220Z
UID:755-1786665600-1786924799@www.vkcoa.com
SUMMARY:Jack Lehmann Memorial at PSGKA
DESCRIPTION:*Promoter Option  – Weekend Driver Pass $90\, VKCA Members $80\, PSGKA Members $70 Non Driver Pit Passes $25 includes BBQ Lunch on Saturday
URL:https://www.vkcoa.com/?tribe_events=jack-lehmann-memorial-vintage-event-at-psgka
LOCATION:Mountain Highway Raceway\, 24715 Mountain Hwy E\, Spanaway\, WA\, 98387
CATEGORIES:Promoter Option
ATTACH;FMTTYPE=image/webp:https://www.vkcoa.com/wp-content/uploads/2025/01/puget_sound_go_kart_association.webp
ORGANIZER;CN="Michael Tobin":MAILTO:mtobin@mytangledweb.com
END:VEVENT
BEGIN:VEVENT
DTSTART;VALUE=DATE:20260918
DTEND;VALUE=DATE:20260921
DTSTAMP:20260422T015012
CREATED:20260117T210956Z
LAST-MODIFIED:20260224T044550Z
UID:741-1789689600-1789948799@www.vkcoa.com
SUMMARY:Medford Vintage Play Days
DESCRIPTION:*Promoter Option – Weekend Driver Pass $60 Non-Driver Pit Pass $10 Camping $25
URL:https://www.vkcoa.com/?tribe_events=medford-vintage-play-days
LOCATION:Jackson County Sports Park\, 6900 Kershaw Road\, Central Point\, OR\, 97502
CATEGORIES:Promoter Option
ATTACH;FMTTYPE=image/webp:https://www.vkcoa.com/wp-content/uploads/2025/01/southern_oregon_karters.webp
ORGANIZER;CN="Dick Florey":MAILTO:coni@centurylink.net
END:VEVENT
BEGIN:VEVENT
DTSTART;VALUE=DATE:20261003
DTEND;VALUE=DATE:20261004
DTSTAMP:20260422T015012
CREATED:20251009T163416Z
LAST-MODIFIED:20260214T014837Z
UID:550-1790985600-1791071999@www.vkcoa.com
SUMMARY:Blue Max Vintage Event
DESCRIPTION:*Promoter Option – Driver Pass FREE for Blue Max Members \n$35 for Non Member Driver Passes
URL:https://www.vkcoa.com/?tribe_events=blue-max-vintage-event
LOCATION:Blue Max Kart Club\, 24998 County Road 102\, Davis\, CA\, 95618\, United States
CATEGORIES:Promoter Option
ATTACH;FMTTYPE=image/png:https://www.vkcoa.com/wp-content/uploads/2025/05/blue_max_kart_club.png
ORGANIZER;CN="Denise Langum":MAILTO:neeham3@yahoo.com
END:VEVENT
BEGIN:VEVENT
DTSTART;VALUE=DATE:20261120
DTEND;VALUE=DATE:20261122
DTSTAMP:20260422T015012
CREATED:20251205T185953Z
LAST-MODIFIED:20260214T190106Z
UID:732-1795132800-1795305599@www.vkcoa.com
SUMMARY:20th Annual Rob Jones Memorial Turkey Trot
DESCRIPTION:**Major Event – VKCA Members pay $80 for weekend Driver Pass \nNon Driver Pit Passes are $15 for the weekend
URL:https://www.vkcoa.com/?tribe_events=turkey-trot
LOCATION:Kinsmen Kart Club\, 4975 Rio Dixon Road\, Dixon\, CA\, 95620
CATEGORIES:Major Event
ATTACH;FMTTYPE=image/jpeg:https://www.vkcoa.com/wp-content/uploads/2025/01/kinsmen_kart_club.jpg
ORGANIZER;CN="Steve Shaw":MAILTO:shaw7d@gmail.com
END:VEVENT
BEGIN:VEVENT
DTSTART;VALUE=DATE:20261127
DTEND;VALUE=DATE:20261128
DTSTAMP:20260422T015012
CREATED:20251205T185444Z
LAST-MODIFIED:20260214T032344Z
UID:726-1795737600-1795823999@www.vkcoa.com
SUMMARY:13th Annual Turkey Shoot
DESCRIPTION:*Promoter Option – $60 is for Drivers Pass \nSpectator Pit Passes are $20 – Lunch Provided
URL:https://www.vkcoa.com/?tribe_events=13th-annual-turkey-shoot
LOCATION:Adam’s Motorsports Park\, 5292 24th Street\, Riverside\, CA\, 92509
CATEGORIES:Promoter Option
ATTACH;FMTTYPE=image/png:https://www.vkcoa.com/wp-content/uploads/2025/01/adams_motorsports_park.png
ORGANIZER;CN="Jay Mendoza":MAILTO:jaymen@pacbell.net
END:VEVENT
END:VCALENDAR